BEGIN:VCALENDAR
VERSION:2.0
PRODID:-//Midsummer&#039;s Music and its affiliate, the Griffon String Quartet - ECPv6.15.20//NONSGML v1.0//EN
CALSCALE:GREGORIAN
METHOD:PUBLISH
X-WR-CALNAME:Midsummer&#039;s Music and its affiliate, the Griffon String Quartet
X-ORIGINAL-URL:https://www.midsummersmusic.com
X-WR-CALDESC:Events for Midsummer&#039;s Music and its affiliate, the Griffon String Quartet
REFRESH-INTERVAL;VALUE=DURATION:PT1H
X-Robots-Tag:noindex
X-PUBLISHED-TTL:PT1H
BEGIN:VTIMEZONE
TZID:America/Chicago
BEGIN:DAYLIGHT
TZOFFSETFROM:-0600
TZOFFSETTO:-0500
TZNAME:CDT
DTSTART:20250309T080000
END:DAYLIGHT
BEGIN:STANDARD
TZOFFSETFROM:-0500
TZOFFSETTO:-0600
TZNAME:CST
DTSTART:20251102T070000
END:STANDARD
BEGIN:DAYLIGHT
TZOFFSETFROM:-0600
TZOFFSETTO:-0500
TZNAME:CDT
DTSTART:20260308T080000
END:DAYLIGHT
BEGIN:STANDARD
TZOFFSETFROM:-0500
TZOFFSETTO:-0600
TZNAME:CST
DTSTART:20261101T070000
END:STANDARD
BEGIN:DAYLIGHT
TZOFFSETFROM:-0600
TZOFFSETTO:-0500
TZNAME:CDT
DTSTART:20270314T080000
END:DAYLIGHT
BEGIN:STANDARD
TZOFFSETFROM:-0500
TZOFFSETTO:-0600
TZNAME:CST
DTSTART:20271107T070000
END:STANDARD
END:VTIMEZONE
BEGIN:VEVENT
DTSTART;TZID=America/Chicago:20260108T120000
DTEND;TZID=America/Chicago:20260108T130000
DTSTAMP:20260423T175104
CREATED:20251014T143517Z
LAST-MODIFIED:20251230T193434Z
UID:14054-1767873600-1767877200@www.midsummersmusic.com
SUMMARY:Gather with the Griffon • Door County
DESCRIPTION:Take a break from your day and Gather with the Griffon—a refreshing series of midday B Double Sharp miniconcerts that nourish both mind and spirit. Featuring selections from the Griffon String Quartet’s current concerts\, these intimate performances blend inspiring music with engaging conversation in a relaxed\, welcoming setting. Performed by Roy Meyer and Alex Norris (violins)\, Oryann Tsaig (viola)\, and Jesse Nummelin (cello)\, each program invites you to pause\, listen\, and connect. \nAdmission is free—no tickets required. \nGenerously supported by local arts champions\, these concerts are made possible by the Wisconsin Arts Board\, the National Endowment for the Arts\, the Little Eddie Big Cup of the Door County Community Foundation\, Kopseker Trust of the Greater Green Bay Community Foundation\, the United Way of Door County\, and the MMG Foundation.
URL:https://www.midsummersmusic.com/event/gather-with-the-griffon-door-county/
LOCATION:St. Luke’s Episcopal Church\, 2336 Canterbury Ln\, Sister Bay\, WI\, 54234
CATEGORIES:B Double Sharp,Griffon String Quartet
ATTACH;FMTTYPE=image/png:https://www.midsummersmusic.com/wp-content/uploads/2024/10/b-double-sharp-calendar-featured-image-scaled.png
END:VEVENT
BEGIN:VEVENT
DTSTART;TZID=America/Chicago:20260115T120000
DTEND;TZID=America/Chicago:20260115T130000
DTSTAMP:20260423T175104
CREATED:20251014T143655Z
LAST-MODIFIED:20251229T191156Z
UID:14056-1768478400-1768482000@www.midsummersmusic.com
SUMMARY:Gather with the Griffon • Green Bay
DESCRIPTION:Take a break from your day and Gather with the Griffon—a refreshing series of midday B Double Sharp miniconcerts that nourish both mind and spirit. Featuring selections from the Griffon String Quartet’s current concerts\, these intimate performances blend inspiring music with engaging conversation in a relaxed\, welcoming setting. Performed by Roy Meyer and Alex Norris (violins)\, Oryann Tsaig (viola)\, and Jesse Nummelin (cello)\, each program invites you to pause\, listen\, and connect. \nAdmission is free—no tickets required. \nGenerously supported by local arts champions\, these concerts are made possible by the Wisconsin Arts Board\, the National Endowment for the Arts\, Kopseker Trust of the Greater Green Bay Community Foundation\, and Doctors in Recital.
URL:https://www.midsummersmusic.com/event/gather-with-the-griffon-green-bay-14/
LOCATION:First Presbyterian Church of Green Bay\, 200 S Ashland Ave.\, Green Bay\, WI\, 54303\, United States
CATEGORIES:B Double Sharp,Griffon String Quartet
ATTACH;FMTTYPE=image/png:https://www.midsummersmusic.com/wp-content/uploads/2024/10/b-double-sharp-calendar-featured-image-scaled.png
END:VEVENT
BEGIN:VEVENT
DTSTART;TZID=America/Chicago:20260116T163000
DTEND;TZID=America/Chicago:20260116T200000
DTSTAMP:20260423T175104
CREATED:20251229T190350Z
LAST-MODIFIED:20260107T160511Z
UID:14325-1768581000-1768593600@www.midsummersmusic.com
SUMMARY:Griffon String Quartet Student Retreat • Sturgeon Bay
DESCRIPTION:Griffon String Quartet Student Retreat – 2026\nFriday\, January 16 4:30-8:00 pm & Saturday January 17 11:30 AM-6:00 pm \nThis two-day retreat designed especially for school-age string players offers a fantastic opportunity to refine skills\, connect with fellow musicians\, and share in the joy of making music together. Get ready for an exciting weekend filled with learning\, creativity\, and fun! \nThroughout the retreat\, participants will: \n\nRehearse and perform in small chamber groups\nStrengthen their playing through guided coachings and interactive workshops\nLearn from the professional musicians of the Griffon String Quartet\nEnjoy team-building games and musical activities\nCelebrate together with a pizza party and ice cream social\nShare their accomplishments in a final recital for family and friends\n\nMake music\, friends\, and memories! \n\nCost\n$40 per student (includes all instruction\, pizza party\, snacks\, ice cream social\, activities\, and a commemorative T-shirt) \n\nLocation\nPrince of Peace Church\n1756 Michigan Street\nSturgeon Bay\, WI 54235 \nRegister \nPlease register by January 10\, 2026.
URL:https://www.midsummersmusic.com/event/griffon-string-quartet-student-retreat-sturgeon-bay/
LOCATION:Prince of Peace Church\, 1756 Michigan St\, Sturgeon Bay\, WI\, 54235\, United States
CATEGORIES:Einstein Series,Griffon String Quartet
ATTACH;FMTTYPE=image/jpeg:https://www.midsummersmusic.com/wp-content/uploads/2025/03/2024-griffon-logo-scaled.jpg
END:VEVENT
BEGIN:VEVENT
DTSTART;TZID=America/Chicago:20260117T113000
DTEND;TZID=America/Chicago:20260117T180000
DTSTAMP:20260423T175104
CREATED:20251229T190357Z
LAST-MODIFIED:20260107T160535Z
UID:14326-1768649400-1768672800@www.midsummersmusic.com
SUMMARY:Griffon String Quartet Student Retreat • Sturgeon Bay
DESCRIPTION:Griffon String Quartet Student Retreat – 2026\nFriday\, January 16 4:30-8:00 pm & Saturday January 17 11:30 AM-6:00 pm \nThis two-day retreat designed especially for school-age string players offers a fantastic opportunity to refine skills\, connect with fellow musicians\, and share in the joy of making music together. Get ready for an exciting weekend filled with learning\, creativity\, and fun! \nThroughout the retreat\, participants will: \n\nRehearse and perform in small chamber groups\nStrengthen their playing through guided coachings and interactive workshops\nLearn from the professional musicians of the Griffon String Quartet\nEnjoy team-building games and musical activities\nCelebrate together with a pizza party and ice cream social\nShare their accomplishments in a final recital for family and friends\n\nMake music\, friends\, and memories! \n\nCost\n$40 per student (includes all instruction\, pizza party\, snacks\, ice cream social\, activities\, and a commemorative T-shirt) \n\nLocation\nPrince of Peace Church\n1756 Michigan Street\nSturgeon Bay\, WI 54235 \nRegister \nPlease register by January 10\, 2026.
URL:https://www.midsummersmusic.com/event/griffon-string-quartet-student-retreat-sturgeon-bay-2/
LOCATION:Prince of Peace Church\, 1756 Michigan St\, Sturgeon Bay\, WI\, 54235\, United States
CATEGORIES:Einstein Series,Griffon String Quartet
ATTACH;FMTTYPE=image/jpeg:https://www.midsummersmusic.com/wp-content/uploads/2025/03/2024-griffon-logo-scaled.jpg
END:VEVENT
BEGIN:VEVENT
DTSTART;TZID=America/Chicago:20260117T170000
DTEND;TZID=America/Chicago:20260117T180000
DTSTAMP:20260423T175104
CREATED:20260107T161006Z
LAST-MODIFIED:20260107T161147Z
UID:14434-1768669200-1768672800@www.midsummersmusic.com
SUMMARY:Griffon String Quartet Student Retreat Recital • Sturgeon Bay
DESCRIPTION:A Griffon String Quartet string retreat student recital. \nThe recital is open to the public.
URL:https://www.midsummersmusic.com/event/griffon-string-quartet-student-retreat-recital-sturgeon-bay/
LOCATION:Prince of Peace Church\, 1756 Michigan St\, Sturgeon Bay\, WI\, 54235\, United States
CATEGORIES:Community-Embedded,Griffon String Quartet
ATTACH;FMTTYPE=image/jpeg:https://www.midsummersmusic.com/wp-content/uploads/2025/03/2024-griffon-logo-scaled.jpg
END:VEVENT
BEGIN:VEVENT
DTSTART;TZID=America/Chicago:20260121T130000
DTEND;TZID=America/Chicago:20260121T150000
DTSTAMP:20260423T175104
CREATED:20251111T165756Z
LAST-MODIFIED:20260120T111418Z
UID:14196-1769000400-1769007600@www.midsummersmusic.com
SUMMARY:Musical Museum: Early to Moderate Stages of Dementia • Ellison Bay
DESCRIPTION:Musical Museum \nMidsummer’s Music will host Clara Takarabe\, violist and clinical music researcher with the Feinberg School of Medicine at Northwestern University\, for a series of clinical music performances and talks in Door County. The Musical Museum is a dementia-informed life-enrichment program featuring musical performances by Takarabe and the Griffon String Quartet intertwined with commentary and discussion around sound\, music and poetry. The program takes care to acknowledge intellectual and social needs of this stage of life. \nClara’s groundbreaking research at Northwestern University is offering scientific proof of what many have long believed—the profound healing power of music and art. \nThis event is free and open to the public. \nReserve Free Tickets \nThe Musical Museum in sponsored by the Helen Daniels Bader Alzheimer’s & Healthy Aging Speakers Series.
URL:https://www.midsummersmusic.com/event/musical-museum-early-to-moderate-stages-of-dementia-ellison-bay/
LOCATION:Shepherd of the Bay Lutheran Church\, 11836 WI-42\, Ellison Bay\, WI\, 54210
CATEGORIES:B Double Sharp,Griffon String Quartet
ATTACH;FMTTYPE=image/png:https://www.midsummersmusic.com/wp-content/uploads/2024/10/b-double-sharp-calendar-featured-image-scaled.png
END:VEVENT
BEGIN:VEVENT
DTSTART;TZID=America/Chicago:20260122T130000
DTEND;TZID=America/Chicago:20260122T150000
DTSTAMP:20260423T175104
CREATED:20251210T153452Z
LAST-MODIFIED:20260120T111443Z
UID:14292-1769086800-1769094000@www.midsummersmusic.com
SUMMARY:Musical Museum: Early to Moderate Stages of Dementia • De Pere
DESCRIPTION:Musical Museum \nMidsummer’s Music will host Clara Takarabe\, violist and clinical music researcher with the Feinberg School of Medicine at Northwestern University\, for a series of clinical music performances and talks. The Musical Museum is a dementia-informed life-enrichment program featuring musical performances by Takarabe and the Griffon String Quartet intertwined with commentary and discussion around sound\, music and poetry. The program takes care to acknowledge intellectual and social needs of this stage of life. \nClara’s groundbreaking research at Northwestern University is offering scientific proof of what many have long believed—the profound healing power of music and art. \nThis event is free and open to the public. \nReserve Free Tickets \nThe Musical Museum in sponsored by the Helen Daniels Bader Alzheimer’s & Healthy Aging Speakers Series.
URL:https://www.midsummersmusic.com/event/musical-museum-early-to-moderate-stages-of-dementia-green-bay/
LOCATION:Dudley Birder Theatre\, 123 S. Broadway\, De Pere\, 54115\, United States
CATEGORIES:B Double Sharp,Griffon String Quartet
ATTACH;FMTTYPE=image/png:https://www.midsummersmusic.com/wp-content/uploads/2024/10/b-double-sharp-calendar-featured-image-scaled.png
END:VEVENT
BEGIN:VEVENT
DTSTART;TZID=America/Chicago:20260123T130000
DTEND;TZID=America/Chicago:20260123T150000
DTSTAMP:20260423T175104
CREATED:20251111T165937Z
LAST-MODIFIED:20260120T111658Z
UID:14198-1769173200-1769180400@www.midsummersmusic.com
SUMMARY:Musical Museum: Early to Moderate Stages of Dementia • Sturgeon Bay
DESCRIPTION:Musical Museum \nMidsummer’s Music will host Clara Takarabe\, violist and clinical music researcher with the Feinberg School of Medicine at Northwestern University\, for a series of clinical music performances and talks in Door County. The Musical Museum is a dementia-informed life-enrichment program featuring musical performances by Takarabe and the Griffon String Quartet intertwined with commentary and discussion around sound\, music and poetry. The program takes care to acknowledge intellectual and social needs of this stage of life. \nClara’s groundbreaking research at Northwestern University is offering scientific proof of what many have long believed—the profound healing power of music and art. \nThis event is free and open to the public. \nReserve Free Tickets \nThe Musical Museum in sponsored by the Helen Daniels Bader Alzheimer’s & Healthy Aging Speakers Series.
URL:https://www.midsummersmusic.com/event/musical-museum-early-to-moderate-stages-of-dementia-sturgeon-bay/
LOCATION:MUSE Sturgeon Bay\, 330 Jefferson St.\, Sturgeon Bay\, WI\, 54235
CATEGORIES:B Double Sharp,Griffon String Quartet
ATTACH;FMTTYPE=image/png:https://www.midsummersmusic.com/wp-content/uploads/2024/10/b-double-sharp-calendar-featured-image-scaled.png
END:VEVENT
END:VCALENDAR