BEGIN:VCALENDAR
VERSION:2.0
PRODID:-//Midsummer&#039;s Music and its affiliate, the Griffon String Quartet - ECPv6.15.20//NONSGML v1.0//EN
CALSCALE:GREGORIAN
METHOD:PUBLISH
X-ORIGINAL-URL:https://www.midsummersmusic.com
X-WR-CALDESC:Events for Midsummer&#039;s Music and its affiliate, the Griffon String Quartet
REFRESH-INTERVAL;VALUE=DURATION:PT1H
X-Robots-Tag:noindex
X-PUBLISHED-TTL:PT1H
BEGIN:VTIMEZONE
TZID:America/Chicago
BEGIN:DAYLIGHT
TZOFFSETFROM:-0600
TZOFFSETTO:-0500
TZNAME:CDT
DTSTART:20240310T080000
END:DAYLIGHT
BEGIN:STANDARD
TZOFFSETFROM:-0500
TZOFFSETTO:-0600
TZNAME:CST
DTSTART:20241103T070000
END:STANDARD
BEGIN:DAYLIGHT
TZOFFSETFROM:-0600
TZOFFSETTO:-0500
TZNAME:CDT
DTSTART:20250309T080000
END:DAYLIGHT
BEGIN:STANDARD
TZOFFSETFROM:-0500
TZOFFSETTO:-0600
TZNAME:CST
DTSTART:20251102T070000
END:STANDARD
BEGIN:DAYLIGHT
TZOFFSETFROM:-0600
TZOFFSETTO:-0500
TZNAME:CDT
DTSTART:20260308T080000
END:DAYLIGHT
BEGIN:STANDARD
TZOFFSETFROM:-0500
TZOFFSETTO:-0600
TZNAME:CST
DTSTART:20261101T070000
END:STANDARD
END:VTIMEZONE
BEGIN:VEVENT
DTSTART;TZID=America/Chicago:20251202T103000
DTEND;TZID=America/Chicago:20251202T153000
DTSTAMP:20260423T194440
CREATED:20251201T193448Z
LAST-MODIFIED:20251202T121711Z
UID:14263-1764671400-1764689400@www.midsummersmusic.com
SUMMARY:Griffon String Quartet Pop-up Caroling • Door County
DESCRIPTION:The Griffon String Quartet is bringing holiday cheer to our community today with a series of pop-up caroling performances. Be on the lookout for their spontaneous concerts as they share the joy of the season throughout the day. \nDoor County Land Trust\nDCMC\nYMCA\nCherry Cove Assisted Living & Memory Care\nSunshine Resources\nGet Real Café\nMaritime Museum\nSturgeon Bay Library\nDoor County Community Foundation\nNicolet Bank East Side Branch\nNicolet Bank West Side Branch
URL:https://www.midsummersmusic.com/event/griffon-string-quartet-pop-up-caroling-door-county/
LOCATION:WI
CATEGORIES:Community-Embedded,Griffon String Quartet
ATTACH;FMTTYPE=image/png:https://www.midsummersmusic.com/wp-content/uploads/2024/09/griffon-string-quartet-holiday-concert-calendar-image-scaled.png
END:VEVENT
BEGIN:VEVENT
DTSTART;TZID=America/Chicago:20251203T100000
DTEND;TZID=America/Chicago:20251203T180000
DTSTAMP:20260423T194440
CREATED:20251201T193626Z
LAST-MODIFIED:20251202T121832Z
UID:14265-1764756000-1764784800@www.midsummersmusic.com
SUMMARY:Griffon String Quartet Pop-up Caroling • Door County
DESCRIPTION:The Griffon String Quartet is bringing holiday cheer to our community today with a series of pop-up caroling performances. Be on the lookout for their spontaneous concerts as they share the joy of the season throughout the day. \nDoor County Coffee\nKress/Library\nMain Street Market\nWhite Gull Inn\nNorthern Door YMCA\nBaileys Harbor Library\nDoor County Pulse\nDentistry by Design\nNicolet Bank\nSip\nSister Bay Library\nNorthern Door Children Center (NDCC)\nPiggly Wiggly\nDCMC Sister Bay Clinic\nTannenbaum Holiday Shop\nDorr Hotel\nWild Tomato
URL:https://www.midsummersmusic.com/event/griffon-string-quartet-pop-up-caroling-door-county-2/
LOCATION:WI
CATEGORIES:Community-Embedded,Griffon String Quartet
ATTACH;FMTTYPE=image/png:https://www.midsummersmusic.com/wp-content/uploads/2024/09/griffon-string-quartet-holiday-concert-calendar-image-scaled.png
END:VEVENT
BEGIN:VEVENT
DTSTART;TZID=America/Chicago:20251207T160000
DTEND;TZID=America/Chicago:20251207T170000
DTSTAMP:20260423T194440
CREATED:20250912T151613Z
LAST-MODIFIED:20251229T191344Z
UID:13885-1765123200-1765126800@www.midsummersmusic.com
SUMMARY:Griffon String Quartet • Lessons and Carols\, Sister Bay
DESCRIPTION:Join us for a stirring afternoon of music and reflection as the Griffon String Quartet performs during St. Luke’s Episcopal Church’s cherished Lessons and Carols program in Sister Bay. Blending the beauty of scripture with the quartet’s masterful performance\, this special event promises a moving celebration of the season. Let the warmth of timeless carols and exquisite string music uplift your spirit and create a memorable start to the holidays in the heart of Door County.
URL:https://www.midsummersmusic.com/event/griffon-string-quartet-lessons-and-carols-sister-bay/
LOCATION:St. Luke’s Episcopal Church\, 2336 Canterbury Ln\, Sister Bay\, WI\, 54234
CATEGORIES:Community-Embedded,Griffon String Quartet
ATTACH;FMTTYPE=image/jpeg:https://www.midsummersmusic.com/wp-content/uploads/2025/03/2024-griffon-logo-scaled.jpg
END:VEVENT
BEGIN:VEVENT
DTSTART;TZID=America/Chicago:20251210T113000
DTEND;TZID=America/Chicago:20251210T143000
DTSTAMP:20260423T194440
CREATED:20251201T193735Z
LAST-MODIFIED:20251202T121922Z
UID:14267-1765366200-1765377000@www.midsummersmusic.com
SUMMARY:Griffon String Quartet Pop-up Caroling • Green Bay
DESCRIPTION:The Griffon String Quartet is bringing holiday cheer to our community today with a series of pop-up caroling performances. Be on the lookout for their spontaneous concerts as they share the joy of the season throughout the day. \nCentral Library\nNicolet Bank\nKavarna Coffee\nHeid Music\nFortifi Bank
URL:https://www.midsummersmusic.com/event/griffon-string-quartet-pop-up-caroling-green-bay-2/
LOCATION:WI
CATEGORIES:Community-Embedded,Griffon String Quartet
ATTACH;FMTTYPE=image/png:https://www.midsummersmusic.com/wp-content/uploads/2024/09/griffon-string-quartet-holiday-concert-calendar-image-scaled.png
END:VEVENT
BEGIN:VEVENT
DTSTART;TZID=America/Chicago:20251210T150000
DTEND;TZID=America/Chicago:20251210T163000
DTSTAMP:20260423T194440
CREATED:20251003T141600Z
LAST-MODIFIED:20251229T191328Z
UID:13955-1765378800-1765384200@www.midsummersmusic.com
SUMMARY:Griffon B Double Sharp Outreach • ADRC\, Green Bay
DESCRIPTION:The Griffon String Quartet brings the joy of live music to clients at the Aging & Disability Resource Center in Green Bay\, offering a moving and uplifting performance designed to connect\, comfort\, and inspire. With a deep belief in the power of music to enrich lives\, the Quartet creates meaningful moments of beauty and community for audiences who might otherwise have limited access to the arts. \nThese programs are made possible in part through the generous support of Little Eddie Big Cup\, the Greater Green Bay Community Foundation\, the Wisconsin Arts Board\, Wisconsin Public Service\, Destination Door County\, and Doctors in Recital\, whose commitment helps ensure that music continues to reach and uplift people of all ages and abilities.
URL:https://www.midsummersmusic.com/event/griffon-b-double-sharp-outreach-adrc-green-bay/
LOCATION:Aging and Disability Resource Center Green Bay\, 300 S. Adams St.\, Green Bay\, WI\, 54301
CATEGORIES:B Double Sharp,Griffon String Quartet
ATTACH;FMTTYPE=image/png:https://www.midsummersmusic.com/wp-content/uploads/2024/10/b-double-sharp-calendar-featured-image-scaled.png
END:VEVENT
BEGIN:VEVENT
DTSTART;TZID=America/Chicago:20251211T120000
DTEND;TZID=America/Chicago:20251211T130000
DTSTAMP:20260423T194440
CREATED:20250912T152109Z
LAST-MODIFIED:20251229T191316Z
UID:13887-1765454400-1765458000@www.midsummersmusic.com
SUMMARY:Rotary Luncheon with the Griffon String Quartet • Sturgeon Bay
DESCRIPTION:Celebrate the season in style as the Griffon String Quartet brings festive cheer to the Sturgeon Bay Rotary’s holiday luncheon with a captivating performance of carols and classical favorites. This special musical program will add warmth and elegance to the gathering\, offering Rotary members a joyful blend of tradition and artistry. Let the spirit of the holidays come alive through the rich harmonies and virtuosity of this acclaimed ensemble.
URL:https://www.midsummersmusic.com/event/rotary-luncheon-with-the-griffon-string-quartet-sturgeon-bay-2/
LOCATION:Sturgeon Bay Yacht Club\, 600 Nautical Dr.\, Sturgeon Bay\, WI\, 54234
CATEGORIES:Griffon String Quartet,Private
ATTACH;FMTTYPE=image/png:https://www.midsummersmusic.com/wp-content/uploads/2024/09/griffon-string-quartet-holiday-concert-calendar-image-scaled.png
END:VEVENT
BEGIN:VEVENT
DTSTART;TZID=America/Chicago:20251212T170000
DTEND;TZID=America/Chicago:20251212T190000
DTSTAMP:20260423T194440
CREATED:20251003T142745Z
LAST-MODIFIED:20251229T191301Z
UID:13959-1765558800-1765566000@www.midsummersmusic.com
SUMMARY:Griffon String Quartet • Holiday Concert
DESCRIPTION:The Griffon String Quartet invites you to celebrate the season with its beloved annual holiday concerts\, where timeless classical repertoire is beautifully paired with festive favorites. Experience the warmth and joy of live music in a program that captures the spirit of the holidays\, then continue the celebration by joining the musicians for light refreshments at a welcoming post-concert reception. \n\nProgram\nHoliday Selections\nString Quartet No. 2 in D Major • Alexander Borodin\nString Quartet No. 4 in E Minor\, Op. 44\, No. 2 • Felix Mendelssohn\nHoliday Selections \n\n\n\nPhil and Laurey Clampitt: Season Sponsors\n\n\n\nSpecial Thanks to Support from:\nDoctors in Recital\nDoor County Library\nDoor County Medical Center\nInnovative Printing\nThe Mail Haus\nNational Endowment for the Arts\nNicolet Bank\nUnited Way of Door County\nWisconsin Arts Board\nWisconsin Public Radio\nWisconsin Public Service Corporation\nYMCA of Door County\n\nReserve Free Tickets
URL:https://www.midsummersmusic.com/event/griffon-string-quartet-holiday-concert/
LOCATION:Hope United Church of Christ\, 141 S 12th Ave.\, Sturgeon Bay\, WI\, 54235\, United States
CATEGORIES:Community-Embedded,Griffon String Quartet
ATTACH;FMTTYPE=image/png:https://www.midsummersmusic.com/wp-content/uploads/2024/09/griffon-string-quartet-holiday-concert-calendar-image-scaled.png
END:VEVENT
BEGIN:VEVENT
DTSTART;TZID=America/Chicago:20251213T170000
DTEND;TZID=America/Chicago:20251213T190000
DTSTAMP:20260423T194440
CREATED:20251003T142846Z
LAST-MODIFIED:20251229T191255Z
UID:13961-1765645200-1765652400@www.midsummersmusic.com
SUMMARY:Griffon String Quartet • Holiday Concert
DESCRIPTION:The Griffon String Quartet invites you to celebrate the season with its beloved annual holiday concerts\, where timeless classical repertoire is beautifully paired with festive favorites. Experience the warmth and joy of live music in a program that captures the spirit of the holidays\, then continue the celebration by joining the musicians for light refreshments at a welcoming post-concert reception. \n\n\n\n\n\nProgram\nHoliday Selections\nString Quartet No. 2 in D Major • Alexander Borodin\nString Quartet No. 4 in E Minor\, Op. 44\, No. 2 • Felix Mendelssohn\nHoliday Selections \n\n\n\nPhil and Laurey Clampitt: Season Sponsors\n\n\n\nSpecial Thanks to Support from:\nDoctors in Recital\nDoor County Library\nDoor County Medical Center\nInnovative Printing\nThe Mail Haus\nNational Endowment for the Arts\nNicolet Bank\nUnited Way of Door County\nWisconsin Arts Board\nWisconsin Public Radio\nWisconsin Public Service Corporation\nYMCA of Door County\n\n\n\n\n\n\n\nReserve Free Tickets
URL:https://www.midsummersmusic.com/event/griffon-string-quartet-holiday-concert-2/
LOCATION:Art Garage\, 1429 Main St\, Green Bay\, WI\, 54302
CATEGORIES:Community-Embedded,Griffon String Quartet
ATTACH;FMTTYPE=image/png:https://www.midsummersmusic.com/wp-content/uploads/2024/09/griffon-string-quartet-holiday-concert-calendar-image-scaled.png
END:VEVENT
BEGIN:VEVENT
DTSTART;TZID=America/Chicago:20251214T150000
DTEND;TZID=America/Chicago:20251214T170000
DTSTAMP:20260423T194440
CREATED:20251003T142951Z
LAST-MODIFIED:20251229T191247Z
UID:13963-1765724400-1765731600@www.midsummersmusic.com
SUMMARY:Griffon String Quartet • Holiday Concert
DESCRIPTION:The Griffon String Quartet invites you to celebrate the season with its beloved annual holiday concerts\, where timeless classical repertoire is beautifully paired with festive favorites. Experience the warmth and joy of live music in a program that captures the spirit of the holidays\, then continue the celebration by joining the musicians for light refreshments at a welcoming post-concert reception. \n\n\n\n\n\nProgram\nHoliday Selections\nString Quartet No. 2 in D Major • Alexander Borodin\nString Quartet No. 4 in E Minor\, Op. 44\, No. 2 • Felix Mendelssohn\nHoliday Selections \n\n\n\nPhil and Laurey Clampitt: Season Sponsors\n\n\n\nSpecial Thanks to Support from:\nDoctors in Recital\nDoor County Library\nDoor County Medical Center\nInnovative Printing\nThe Mail Haus\nNational Endowment for the Arts\nNicolet Bank\nUnited Way of Door County\nWisconsin Arts Board\nWisconsin Public Radio\nWisconsin Public Service Corporation\nYMCA of Door County\n\n\n\n\n\n\n\nReserve Free Tickets
URL:https://www.midsummersmusic.com/event/griffon-string-quartet-holiday-concert-3/
LOCATION:Donald and Carol Kress Pavilion\, 7845 Church St.\, Egg Harbor\, WI\, 54209
CATEGORIES:Community-Embedded,Griffon String Quartet
ATTACH;FMTTYPE=image/png:https://www.midsummersmusic.com/wp-content/uploads/2024/09/griffon-string-quartet-holiday-concert-calendar-image-scaled.png
END:VEVENT
BEGIN:VEVENT
DTSTART;TZID=America/Chicago:20251218T120000
DTEND;TZID=America/Chicago:20251218T130000
DTSTAMP:20260423T194440
CREATED:20250910T111923Z
LAST-MODIFIED:20251229T191230Z
UID:13857-1766059200-1766062800@www.midsummersmusic.com
SUMMARY:Gather with the Griffon • Green Bay
DESCRIPTION:Take a break from your day and Gather with the Griffon—a refreshing series of midday B Double Sharp miniconcerts that nourish both mind and spirit. Featuring selections from the Griffon String Quartet’s December concerts\, these intimate performances blend inspiring music with engaging conversation in a relaxed\, welcoming setting. Performed by Roy Meyer and Alex Norris (violins)\, Oryann Tsaig (viola)\, and Jesse Nummelin (cello)\, each program invites you to pause\, listen\, and connect. Admission is free—no tickets required. Generously supported by local arts champions\, these concerts are made possible by the Little Eddie Big Cup\, Greater Green Bay Community Foundation\, Wisconsin Arts Board\, Wisconsin Public Service\, Destination Door County\, and Doctors in Recital.
URL:https://www.midsummersmusic.com/event/gather-with-the-griffon-green-bay-13/
LOCATION:WI
CATEGORIES:B Double Sharp,Griffon String Quartet
ATTACH;FMTTYPE=image/png:https://www.midsummersmusic.com/wp-content/uploads/2024/10/b-double-sharp-calendar-featured-image-scaled.png
END:VEVENT
BEGIN:VEVENT
DTSTART;TZID=America/Chicago:20251218T190000
DTEND;TZID=America/Chicago:20251218T200000
DTSTAMP:20260423T194440
CREATED:20251003T142226Z
LAST-MODIFIED:20251229T191216Z
UID:13957-1766084400-1766088000@www.midsummersmusic.com
SUMMARY:Griffon String Quartet • Door Community Auditorium
DESCRIPTION:The Griffon String Quartet joins forces with the talented choir at Gibraltar School in Fish Creek\, creating a powerful collaboration that unites voices and strings in harmony. This special performance highlights the magic of live music made in community\, offering students the chance to share the stage with professional musicians while inspiring audiences with the beauty and energy of young artistry. By blending the Quartet’s renowned musicianship with the choir’s vibrant voices\, the program celebrates creativity\, learning\, and the joy of making music together.
URL:https://www.midsummersmusic.com/event/griffon-string-quartet-door-community-auditorium/
LOCATION:Gibraltar School\, 3924 WI-42\, Fish Creek\, Wisconsin\, 54212
CATEGORIES:Einstein Series,Griffon String Quartet
ATTACH;FMTTYPE=image/jpeg:https://www.midsummersmusic.com/wp-content/uploads/2025/03/2024-griffon-logo-scaled.jpg
END:VEVENT
END:VCALENDAR