BEGIN:VCALENDAR
VERSION:2.0
PRODID:-//Midsummer&#039;s Music and its affiliate, the Griffon String Quartet - ECPv6.15.20//NONSGML v1.0//EN
CALSCALE:GREGORIAN
METHOD:PUBLISH
X-WR-CALNAME:Midsummer&#039;s Music and its affiliate, the Griffon String Quartet
X-ORIGINAL-URL:https://www.midsummersmusic.com
X-WR-CALDESC:Events for Midsummer&#039;s Music and its affiliate, the Griffon String Quartet
REFRESH-INTERVAL;VALUE=DURATION:PT1H
X-Robots-Tag:noindex
X-PUBLISHED-TTL:PT1H
BEGIN:VTIMEZONE
TZID:America/Chicago
BEGIN:DAYLIGHT
TZOFFSETFROM:-0600
TZOFFSETTO:-0500
TZNAME:CDT
DTSTART:20240310T080000
END:DAYLIGHT
BEGIN:STANDARD
TZOFFSETFROM:-0500
TZOFFSETTO:-0600
TZNAME:CST
DTSTART:20241103T070000
END:STANDARD
BEGIN:DAYLIGHT
TZOFFSETFROM:-0600
TZOFFSETTO:-0500
TZNAME:CDT
DTSTART:20250309T080000
END:DAYLIGHT
BEGIN:STANDARD
TZOFFSETFROM:-0500
TZOFFSETTO:-0600
TZNAME:CST
DTSTART:20251102T070000
END:STANDARD
BEGIN:DAYLIGHT
TZOFFSETFROM:-0600
TZOFFSETTO:-0500
TZNAME:CDT
DTSTART:20260308T080000
END:DAYLIGHT
BEGIN:STANDARD
TZOFFSETFROM:-0500
TZOFFSETTO:-0600
TZNAME:CST
DTSTART:20261101T070000
END:STANDARD
END:VTIMEZONE
BEGIN:VEVENT
DTSTART;TZID=America/Chicago:20251009T120000
DTEND;TZID=America/Chicago:20251009T130000
DTSTAMP:20260423T231223
CREATED:20250912T150444Z
LAST-MODIFIED:20251229T193136Z
UID:13878-1760011200-1760014800@www.midsummersmusic.com
SUMMARY:Gather with the Griffon • Sturgeon Bay
DESCRIPTION:Take a break from your day and Gather with the Griffon—a refreshing series of midday B Double Sharp miniconcerts that nourish both mind and spirit. Featuring selections from the Griffon String Quartet’s autumn concerts\, these intimate performances blend inspiring music with engaging conversation in a relaxed\, welcoming setting. Performed by Roy Meyer and Alex Norris (violins)\, Oryann Tsaig (viola)\, and Jesse Nummelin (cello)\, each program invites you to pause\, listen\, and connect. Admission is free—no tickets required. Generously supported by local arts champions\, these concerts are made possible by the Little Eddie Big Cup\, Greater Green Bay Community Foundation\, Wisconsin Arts Board\, Wisconsin Public Service\, Destination Door County\, and Doctors in Recital.
URL:https://www.midsummersmusic.com/event/gather-with-the-griffon-sturgeon-bay-3/
LOCATION:MUSE Sturgeon Bay\, 330 Jefferson St.\, Sturgeon Bay\, WI\, 54235
CATEGORIES:B Double Sharp,Griffon String Quartet
ATTACH;FMTTYPE=image/png:https://www.midsummersmusic.com/wp-content/uploads/2024/10/b-double-sharp-calendar-featured-image-scaled.png
END:VEVENT
BEGIN:VEVENT
DTSTART;TZID=America/Chicago:20251016T120000
DTEND;TZID=America/Chicago:20251016T130000
DTSTAMP:20260423T231223
CREATED:20250910T111915Z
LAST-MODIFIED:20251229T193123Z
UID:13855-1760616000-1760619600@www.midsummersmusic.com
SUMMARY:Gather with the Griffon • Green Bay
DESCRIPTION:Take a break from your day and Gather with the Griffon—a refreshing series of midday B Double Sharp miniconcerts that nourish both mind and spirit. Featuring selections from the Griffon String Quartet’s autumn concerts\, these intimate performances blend inspiring music with engaging conversation in a relaxed\, welcoming setting. Performed by Roy Meyer and Alex Norris (violins)\, Oryann Tsaig (viola)\, and Jesse Nummelin (cello)\, each program invites you to pause\, listen\, and connect. Admission is free—no tickets required. Generously supported by local arts champions\, these concerts are made possible by the Little Eddie Big Cup\, Greater Green Bay Community Foundation\, Wisconsin Arts Board\, Wisconsin Public Service\, Destination Door County\, and Doctors in Recital.
URL:https://www.midsummersmusic.com/event/gather-with-the-griffon-green-bay-11/
LOCATION:First Presbyterian Church of Green Bay\, 200 S Ashland Ave.\, Green Bay\, WI\, 54303\, United States
CATEGORIES:B Double Sharp,Griffon String Quartet
ATTACH;FMTTYPE=image/png:https://www.midsummersmusic.com/wp-content/uploads/2024/10/b-double-sharp-calendar-featured-image-scaled.png
END:VEVENT
BEGIN:VEVENT
DTSTART;TZID=America/Chicago:20251017T190000
DTEND;TZID=America/Chicago:20251017T210000
DTSTAMP:20260423T231223
CREATED:20250910T114248Z
LAST-MODIFIED:20251014T133009Z
UID:13862-1760727600-1760734800@www.midsummersmusic.com
SUMMARY:Griffon String Quartet Community Concert • Green Bay
DESCRIPTION:Experience the artistry and passion of the Griffon String Quartet in a special community concert in Green Bay! Showcasing highlights from their captivating autumn repertoire\, this performance offers an intimate evening of powerful music\, brought to life by one of the region’s premier chamber ensembles. Don’t miss this inspiring celebration of classical music\, connection\, and creativity—right in the heart of your community. \nReserve Free Tickets \nCommunity programming is sponsored in part by the Greater Green Bay Community Foundation\, the Wisconsin Arts Board\, Wisconsin Public Service\, Destination Door County\, and Doctors in Recital.
URL:https://www.midsummersmusic.com/event/griffon-string-quartet-community-concert-green-bay/
LOCATION:Art Garage\, 1429 Main St\, Green Bay\, WI\, 54302
CATEGORIES:Community-Embedded,Griffon String Quartet
ATTACH;FMTTYPE=image/png:https://www.midsummersmusic.com/wp-content/uploads/2025/03/community-calendar-featured-image-scaled.png
END:VEVENT
BEGIN:VEVENT
DTSTART;TZID=America/Chicago:20251018T190000
DTEND;TZID=America/Chicago:20251018T210000
DTSTAMP:20260423T231223
CREATED:20250404T141552Z
LAST-MODIFIED:20251014T134634Z
UID:13284-1760814000-1760821200@www.midsummersmusic.com
SUMMARY:Autumn Music Fest - Griffon String Quartet • MUSE\, Sturgeon Bay
DESCRIPTION:Past\, Present\, Passion: A Musical Journey\n\n\n\n\n\n\n\nPrepare to be inspired by the dynamic artistry of the Griffon String Quartet as they present a compelling program that bridges tradition and innovation. From the refined elegance of Haydn’s String Quartet\, Op. 76\, No. 5 to the vibrant\, rhythmic energy of Jessie Montgomery’s Voodoo Dolls\, and the passionate intensity of Brahms’ String Quartet No. 1 in C Minor\, Op. 51\, this concert promises an unforgettable journey through the power and versatility of the string quartet. Let the Griffon String Quartet ignite your imagination and stir your soul with a performance that celebrates the depth and diversity of chamber music. \n\n\n\n\n\n\n\nReserve Free Tickets
URL:https://www.midsummersmusic.com/event/autumn-music-fest-griffon-string-quartet-muse-sturgeon-bay/
LOCATION:MUSE Sturgeon Bay\, 330 Jefferson St.\, Sturgeon Bay\, WI\, 54235
CATEGORIES:Community-Embedded,Concert,Griffon String Quartet,Midsummer's Music
ATTACH;FMTTYPE=image/png:https://www.midsummersmusic.com/wp-content/uploads/2025/04/amf-calendar-featured-image-1-scaled.png
END:VEVENT
BEGIN:VEVENT
DTSTART;TZID=America/Chicago:20251019T170000
DTEND;TZID=America/Chicago:20251019T190000
DTSTAMP:20260423T231223
CREATED:20250404T131517Z
LAST-MODIFIED:20251014T134616Z
UID:13286-1760893200-1760900400@www.midsummersmusic.com
SUMMARY:Autumn Music Fest - Griffon String Quartet • Woodwalk Gallery\, Egg Harbor
DESCRIPTION:Past\, Present\, Passion: A Musical Journey\n\n\n\n\n\n\n\nPrepare to be inspired by the dynamic artistry of the Griffon String Quartet as they present a compelling program that bridges tradition and innovation. From the refined elegance of Haydn’s String Quartet\, Op. 76\, No. 5 to the vibrant\, rhythmic energy of Jessie Montgomery’s Voodoo Dolls\, and the passionate intensity of Brahms’ String Quartet No. 1 in C Minor\, Op. 51\, this concert promises an unforgettable journey through the power and versatility of the string quartet. Let the Griffon String Quartet ignite your imagination and stir your soul with a performance that celebrates the depth and diversity of chamber music. \n\n\n\n\n\n\n\nReserve Free Tickets
URL:https://www.midsummersmusic.com/event/autumn-music-fest-griffon-string-quartet-woodwalk-gallery-egg-harbor/
LOCATION:Woodwalk Gallery\, 6746 County Rd. G\, Egg Harbor\, WI\, 54209
CATEGORIES:Community-Embedded,Concert,Griffon String Quartet,Midsummer's Music
ATTACH;FMTTYPE=image/png:https://www.midsummersmusic.com/wp-content/uploads/2025/04/amf-calendar-featured-image-1-scaled.png
END:VEVENT
BEGIN:VEVENT
DTSTART;TZID=America/Chicago:20251021T080000
DTEND;TZID=America/Chicago:20251021T120000
DTSTAMP:20260423T231223
CREATED:20250910T114309Z
LAST-MODIFIED:20251014T133241Z
UID:13865-1761033600-1761048000@www.midsummersmusic.com
SUMMARY:Griffon String Quartet Outreach—YMCA • Sturgeon Bay
DESCRIPTION:Join the Griffon String Quartet at the YMCA’s Community Healthy Living Fair in Sturgeon Bay for an uplifting fusion of music and wellness! As part of this vibrant community event\, the Quartet brings the joy and inspiration of live classical music to a day dedicated to healthy living\, connection\, and vitality. Don’t miss this unique opportunity to experience the healing power of music while exploring resources that support a balanced\, healthy lifestyle for the whole family. \nVisit https://www.doorcountyymca.org/ for more information.
URL:https://www.midsummersmusic.com/event/griffon-string-quartet-outreach-ymca-sturgeon-bay/
LOCATION:YMCA Sturgeon Bay\, 1900 Michigan St\,\, Sturgeon Bay\, WI\, 54234
CATEGORIES:B Double Sharp,Community-Embedded,Einstein Series,Griffon String Quartet
ATTACH;FMTTYPE=image/jpeg:https://www.midsummersmusic.com/wp-content/uploads/2025/03/2024-griffon-logo-scaled.jpg
END:VEVENT
BEGIN:VEVENT
DTSTART;TZID=America/Chicago:20251024T140000
DTEND;TZID=America/Chicago:20251024T150000
DTSTAMP:20260423T231223
CREATED:20251003T140245Z
LAST-MODIFIED:20251014T133324Z
UID:13947-1761314400-1761318000@www.midsummersmusic.com
SUMMARY:Griffon String Quartet • Einstein Series\, Green Bay
DESCRIPTION:The Griffon String Quartet brings its acclaimed Einstein Series to the Fine Arts Institute in Green Bay\, offering students an unforgettable opportunity to experience world-class chamber music up close. This celebrated program\, designed to inspire and educate\, will be elevated by the presence of distinguished guest cellist Parry Karp\, whose artistry and expertise add a remarkable dimension to the performance. Together\, the quartet and Karp create an enriching musical experience that blends excellence\, accessibility\, and inspiration for the next generation of musicians and music lovers alike.
URL:https://www.midsummersmusic.com/event/griffon-string-quartet-einstein-series-green-bay/
LOCATION:East High School\, 1415 E Walnut St.\, Green Bay\, WI\, 54301\, United States
CATEGORIES:Einstein Series,Griffon String Quartet
ATTACH;FMTTYPE=image/png:https://www.midsummersmusic.com/wp-content/uploads/2024/10/einstein-calendar-featured-image-scaled.png
END:VEVENT
BEGIN:VEVENT
DTSTART;TZID=America/Chicago:20251025T180000
DTEND;TZID=America/Chicago:20251025T220000
DTSTAMP:20260423T231223
CREATED:20250910T114317Z
LAST-MODIFIED:20251014T133401Z
UID:13866-1761415200-1761429600@www.midsummersmusic.com
SUMMARY:Green Bay Chamber Music Society
DESCRIPTION:The Griffon String Quartet presents an exclusive private concert for members of the Green Bay Chamber Music Society\, generously hosted by Mary and Sam Frantz\, and featuring guests Parry Karp\, Cello\, and Eli Kalman\, Piano. This intimate evening promises a rich musical experience\, highlighting the Quartet’s exceptional artistry in a warm\, welcoming setting. To learn more about the Green Bay Chamber Music Society and how to become part of these special events\, visit this webpage. \n\n\n\n\n\nSonata for Cello and Piano in B-flat Major\, Op. 71\nDmitri Kabalevsky\n\n\n\nString Quintet No. 1 – Andante Cantabile\nPyotr Ilyich Tchaikovsky\n\n\n\nPiano Quintet No. 1 in C Minor\, Op. 1\nErnst von Dohnányi
URL:https://www.midsummersmusic.com/event/green-bay-chamber-music-society-5/
CATEGORIES:Green Bay Chamber Music Society,Griffon String Quartet
ATTACH;FMTTYPE=image/png:https://www.midsummersmusic.com/wp-content/uploads/2024/09/2024-gbcms-griffon-logo.png
END:VEVENT
END:VCALENDAR