BEGIN:VCALENDAR
VERSION:2.0
PRODID:-//Midsummer&#039;s Music and its affiliate, the Griffon String Quartet - ECPv6.15.20//NONSGML v1.0//EN
CALSCALE:GREGORIAN
METHOD:PUBLISH
X-ORIGINAL-URL:https://www.midsummersmusic.com
X-WR-CALDESC:Events for Midsummer&#039;s Music and its affiliate, the Griffon String Quartet
REFRESH-INTERVAL;VALUE=DURATION:PT1H
X-Robots-Tag:noindex
X-PUBLISHED-TTL:PT1H
BEGIN:VTIMEZONE
TZID:America/Chicago
BEGIN:DAYLIGHT
TZOFFSETFROM:-0600
TZOFFSETTO:-0500
TZNAME:CDT
DTSTART:20240310T080000
END:DAYLIGHT
BEGIN:STANDARD
TZOFFSETFROM:-0500
TZOFFSETTO:-0600
TZNAME:CST
DTSTART:20241103T070000
END:STANDARD
BEGIN:DAYLIGHT
TZOFFSETFROM:-0600
TZOFFSETTO:-0500
TZNAME:CDT
DTSTART:20250309T080000
END:DAYLIGHT
BEGIN:STANDARD
TZOFFSETFROM:-0500
TZOFFSETTO:-0600
TZNAME:CST
DTSTART:20251102T070000
END:STANDARD
BEGIN:DAYLIGHT
TZOFFSETFROM:-0600
TZOFFSETTO:-0500
TZNAME:CDT
DTSTART:20260308T080000
END:DAYLIGHT
BEGIN:STANDARD
TZOFFSETFROM:-0500
TZOFFSETTO:-0600
TZNAME:CST
DTSTART:20261101T070000
END:STANDARD
END:VTIMEZONE
BEGIN:VEVENT
DTSTART;TZID=America/Chicago:20250503T100000
DTEND;TZID=America/Chicago:20250503T130000
DTSTAMP:20260424T073107
CREATED:20250425T113249Z
LAST-MODIFIED:20251229T192244Z
UID:13411-1746266400-1746277200@www.midsummersmusic.com
SUMMARY:Griffon String Quartet Einstein Outreach • Sturgeon Bay
DESCRIPTION:Members of the Griffon String Quartet participate in the YMCA’s Healthy Kids Day events.
URL:https://www.midsummersmusic.com/event/griffon-string-quartet-einstein-outreach-sturgeon-bay/
LOCATION:YMCA Sturgeon Bay\, 1900 Michigan St\,\, Sturgeon Bay\, WI\, 54234
CATEGORIES:Einstein Series,Griffon String Quartet
ATTACH;FMTTYPE=image/png:https://www.midsummersmusic.com/wp-content/uploads/2024/10/einstein-calendar-featured-image-scaled.png
END:VEVENT
BEGIN:VEVENT
DTSTART;VALUE=DATE:20250510
DTEND;VALUE=DATE:20250512
DTSTAMP:20260424T073107
CREATED:20241113T151742Z
LAST-MODIFIED:20251229T192237Z
UID:12602-1746835200-1747007999@www.midsummersmusic.com
SUMMARY:Griffon String Quartet Student Retreat • Door County
DESCRIPTION:The Griffon String Quartet hosts a retreat for its string students and others\, including a pizza party and a public concert. \nMay 10\n9:30-10 – Registration\n10-10:30 – Games and icebreakers\n10:30-11 – Large group playing\n11am-12 – Small group (Chamber) breakouts\n12-1 – Lunch and games\n1-1:30 – Lesson on Instrument care\n1:30-2:30 – Small group (Chamber) breakouts\n2:30-3 – Large groups and wrap up \nMay 11\n1:45 – Arrive\n2-3 – Small group breakouts\n3-3:30 – Large group playing\n3:30-4 – Games and recital prep\n4-5 – Recital followed by an Ice Cream Social \nRoy Meyer & Alex Norris\, Violins\nOryann Tsaig\, Viola\nJesse Nummelin\, Cello \nSponsored in part by Heid Music \nRetreat Registration
URL:https://www.midsummersmusic.com/event/griffon-string-quartet-student-retreat-door-county/
LOCATION:Hope United Church of Christ\, 141 S 12th Ave.\, Sturgeon Bay\, WI\, 54235\, United States
CATEGORIES:Einstein Series,Griffon String Quartet
ATTACH;FMTTYPE=image/png:https://www.midsummersmusic.com/wp-content/uploads/2024/10/einstein-calendar-featured-image-scaled.png
END:VEVENT
BEGIN:VEVENT
DTSTART;TZID=America/Chicago:20250510T180000
DTEND;TZID=America/Chicago:20250510T220000
DTSTAMP:20260424T073107
CREATED:20240909T135210Z
LAST-MODIFIED:20251229T192229Z
UID:12264-1746900000-1746914400@www.midsummersmusic.com
SUMMARY:Green Bay Chamber Music Society
DESCRIPTION:Season Finale and Fireworks \nThe Griffon String Quartet performs\nTBD \nHosted by Ken Strmiska and Sabina Singh \nThis concert is for Green Bay Chamber Music Society members. \nFor information about the Green Bay Chamber Music Society\, visit this webpage.
URL:https://www.midsummersmusic.com/event/green-bay-chamber-music-society-4/
LOCATION:WI
CATEGORIES:Green Bay Chamber Music Society,Griffon String Quartet
ATTACH;FMTTYPE=image/png:https://www.midsummersmusic.com/wp-content/uploads/2024/09/2024-gbcms-griffon-logo.png
END:VEVENT
BEGIN:VEVENT
DTSTART;TZID=America/Chicago:20250515T120000
DTEND;TZID=America/Chicago:20250515T130000
DTSTAMP:20260424T073107
CREATED:20240917T123748Z
LAST-MODIFIED:20251229T192223Z
UID:12307-1747310400-1747314000@www.midsummersmusic.com
SUMMARY:Gather with the Griffon • Green Bay
DESCRIPTION:“Gather with the Griffon” miniconcerts are designed for midday audiences. B Double Sharp programs engage the mind and spirit through music and conversation. \nProgram: Selections from the Griffon’s May concerts. \nRoy Meyer and Alex Norris\, Violins\nOryann Tsaig\, Viola\nJesse Nummelin\, Cello\nThis is not a ticketed event. \nPrograms are funded in part by grants from the Little Eddie Big Cup\, Greater Green Bay Community Foundation\, Wisconsin Arts Board\, Wisconsin Public Service\, and Destination Door County.
URL:https://www.midsummersmusic.com/event/gather-with-the-griffon-green-bay-9/
LOCATION:First Presbyterian Church of Green Bay\, 200 S Ashland Ave.\, Green Bay\, WI\, 54303\, United States
CATEGORIES:B Double Sharp,Griffon String Quartet
ATTACH;FMTTYPE=image/png:https://www.midsummersmusic.com/wp-content/uploads/2024/09/gwtg-calendar-featured-image-scaled.png
END:VEVENT
BEGIN:VEVENT
DTSTART;TZID=America/Chicago:20250517T140000
DTEND;TZID=America/Chicago:20250517T150000
DTSTAMP:20260424T073107
CREATED:20250319T172938Z
LAST-MODIFIED:20251229T192213Z
UID:13154-1747490400-1747494000@www.midsummersmusic.com
SUMMARY:Griffon String Quartet Community Event • De Pere
DESCRIPTION:In association with Wisconsin Public Radio\, the Griffon String Quartet performs at Cocoon Brewing in De Pere.
URL:https://www.midsummersmusic.com/event/griffon-string-quartet-community-event-de-pere/
LOCATION:Cocoon Brewing\, 2233 Kaftan Way\, De Pere\, WI\, 54115
CATEGORIES:Community-Embedded,Griffon String Quartet
ATTACH;FMTTYPE=image/png:https://www.midsummersmusic.com/wp-content/uploads/2025/03/community-calendar-featured-image-scaled.png
END:VEVENT
BEGIN:VEVENT
DTSTART;TZID=America/Chicago:20250518T140000
DTEND;TZID=America/Chicago:20250518T170000
DTSTAMP:20260424T073107
CREATED:20250304T131032Z
LAST-MODIFIED:20251229T192205Z
UID:12932-1747576800-1747587600@www.midsummersmusic.com
SUMMARY:Griffon Students Recital
DESCRIPTION:The Griffon String Quartet’s string students perform their annual recital. \nThe recital is open to the public.
URL:https://www.midsummersmusic.com/event/griffon-students-recital-2/
LOCATION:MUSE Sturgeon Bay\, 330 Jefferson St.\, Sturgeon Bay\, WI\, 54235
CATEGORIES:Einstein Series,Griffon String Quartet
END:VEVENT
BEGIN:VEVENT
DTSTART;TZID=America/Chicago:20250521T130000
DTEND;TZID=America/Chicago:20250521T140000
DTSTAMP:20260424T073107
CREATED:20250411T114601Z
LAST-MODIFIED:20251229T192813Z
UID:13377-1747832400-1747836000@www.midsummersmusic.com
SUMMARY:Griffon String Quartet B Double Sharp Outreach • Sturgeon Bay
DESCRIPTION:The Griffon String Quartet performs for clients at the Aging & Disability Resource Center in Sturgeon Bay. \n\n\n\n\nPrograms are funded in part by grants from Little Eddie Big Cup\, Greater Green Bay Community Foundation\, Wisconsin Arts Board\, Wisconsin Public Service\, and Destination Door County.
URL:https://www.midsummersmusic.com/event/griffon-string-quartet-b-double-sharp-outreach-sturgeon-bay/
LOCATION:Aging and Disability Resource Center\, 916 N 14th Ave.\, Sturgeon Bay\, WI\, 54235\, United States
CATEGORIES:B Double Sharp,Griffon String Quartet
ATTACH;FMTTYPE=image/png:https://www.midsummersmusic.com/wp-content/uploads/2024/10/b-double-sharp-calendar-featured-image-scaled.png
END:VEVENT
BEGIN:VEVENT
DTSTART;TZID=America/Chicago:20250523T190000
DTEND;TZID=America/Chicago:20250523T210000
DTSTAMP:20260424T073107
CREATED:20250304T134730Z
LAST-MODIFIED:20251229T192135Z
UID:12934-1748026800-1748034000@www.midsummersmusic.com
SUMMARY:Griffon String Quartet Season Finale Concert • Egg Harbor
DESCRIPTION:Join us for a magnificent concert as the Griffon String Quartet’s 2023-2024 season comes to an end. \nWPR presents “Music Bingo” from 5:30 to 6:30\, prior to the Griffon String Quartet’s concert. It’s part bingo\, part classical music trivia and all fun! You could win WPR swag and more! It’s free to play\, but space is limited. Please register to let us know you’re coming. Click here for “Music Bingo” details! (Reserve concert tickets below.) \nString Quartet No. 3\, “Glitter\, Doom\, Shards\, Memory” by Schulamit Ran\nString Quartet No. 2\, Op. 26 by Erich Wolfgang Korngold\nPiano Quintet in G Minor\, Op. 57 by Dmitri Shostakovich \nRoy Meyer & Alex Norris\, Violins\nOryann Tsaig\, Viola\nJesse Nummelin\, Cello\nRie Tanaka\, Piano \nReserve Tickets
URL:https://www.midsummersmusic.com/event/griffon-string-quartet-season-finale-concert-egg-harbor/
LOCATION:Donald and Carol Kress Pavilion\, 7845 Church St.\, Egg Harbor\, WI\, 54209
CATEGORIES:Community-Embedded,Griffon String Quartet
ATTACH;FMTTYPE=image/png:https://www.midsummersmusic.com/wp-content/uploads/2025/03/griffon-may-concerts-calendar-featured-image-scaled.png
END:VEVENT
BEGIN:VEVENT
DTSTART;TZID=America/Chicago:20250524T190000
DTEND;TZID=America/Chicago:20250524T210000
DTSTAMP:20260424T073107
CREATED:20250304T134842Z
LAST-MODIFIED:20251229T192135Z
UID:12937-1748113200-1748120400@www.midsummersmusic.com
SUMMARY:Griffon String Quartet Season Finale Concert • Green Bay
DESCRIPTION:Join us for a magnificent concert as the Griffon String Quartet’s 2023-2024 season comes to an end. \nString Quartet No. 3\, “Glitter\, Doom\, Shards\, Memory” by Schulamit Ran\nString Quartet No. 2\, Op. 26 by Erich Wolfgang Korngold\nPiano Quintet in G Minor\, Op. 57 by Dmitri Shostakovich \nRoy Meyer & Alex Norris\, Violins\nOryann Tsaig\, Viola\nJesse Nummelin\, Cello\nRie Tanaka\, Piano \nReserve Tickets
URL:https://www.midsummersmusic.com/event/griffon-string-quartet-season-finale-concert-green-bay/
LOCATION:Art Garage\, 1429 Main St\, Green Bay\, WI\, 54302
CATEGORIES:Community-Embedded,Griffon String Quartet
ATTACH;FMTTYPE=image/png:https://www.midsummersmusic.com/wp-content/uploads/2025/03/griffon-may-concerts-calendar-featured-image-scaled.png
END:VEVENT
BEGIN:VEVENT
DTSTART;TZID=America/Chicago:20250525T170000
DTEND;TZID=America/Chicago:20250525T190000
DTSTAMP:20260424T073107
CREATED:20250304T135010Z
LAST-MODIFIED:20251229T192135Z
UID:12939-1748192400-1748199600@www.midsummersmusic.com
SUMMARY:Griffon String Quartet Season Finale Concert • Sturgeon Bay
DESCRIPTION:Join us for a magnificent concert as the Griffon String Quartet’s 2023-2024 season comes to an end. \nString Quartet No. 3\, “Glitter\, Doom\, Shards\, Memory” by Schulamit Ran\nString Quartet No. 2\, Op. 26 by Erich Wolfgang Korngold\nPiano Quintet in G Minor\, Op. 57 by Dmitri Shostakovich \nRoy Meyer & Alex Norris\, Violins\nOryann Tsaig\, Viola\nJesse Nummelin\, Cello\nRie Tanaka\, Piano \nReserve Tickets
URL:https://www.midsummersmusic.com/event/griffon-string-quartet-season-finale-concert-sturgeon-bay/
LOCATION:Hope United Church of Christ\, 141 S 12th Ave.\, Sturgeon Bay\, WI\, 54235\, United States
CATEGORIES:Community-Embedded,Griffon String Quartet
ATTACH;FMTTYPE=image/png:https://www.midsummersmusic.com/wp-content/uploads/2025/03/griffon-may-concerts-calendar-featured-image-scaled.png
END:VEVENT
BEGIN:VEVENT
DTSTART;TZID=America/Chicago:20250527T160000
DTEND;TZID=America/Chicago:20250527T170000
DTSTAMP:20260424T073107
CREATED:20250411T115109Z
LAST-MODIFIED:20251229T192121Z
UID:13379-1748361600-1748365200@www.midsummersmusic.com
SUMMARY:Because: A Storytelling Concert for Families • Juddville
DESCRIPTION:Presented by the Griffon String Quartet and Write On\, Door County \nJoin us for a magical musical experience where storytelling and live music combine to inspire curiosity\, creativity\, and connection. This interactive family concert features a live reading of Because by Mo Willems – an uplifting picture book about how a single music note can change a life – paired with a live performance by the Griffon String Quartet. \nAs each page turns\, the Quartet brings the story to life with music that mirrors the emotion\, imagination\, and discovery found in the book. Children and their families will experience how music tells a story – without words – and how every action can lead to a beautiful chain of events. \nPerfect for young listeners and music lovers of all ages\, this event encourages families to explore the joy of live classical music and the wonder of storytelling together. \nHighlights: \n\nA live reading of Because by Mo Willems\nInteractive performance by the Griffon String Quartet\nAn engaging\, welcoming environment for children and families\nIdeal for ages four and up (and the young at heart!)\n\nBecause sometimes\, a single note can spark a dream. \nThis free concert is not a ticketed event.
URL:https://www.midsummersmusic.com/event/because-a-storytelling-concert-for-families-juddville/
LOCATION:Write On\, Door County\, 4210 Juddville Rd.\, Fish Creek\, WI\, 54212
CATEGORIES:Einstein Series,Griffon String Quartet
ATTACH;FMTTYPE=image/png:https://www.midsummersmusic.com/wp-content/uploads/2024/10/einstein-calendar-featured-image-scaled.png
END:VEVENT
END:VCALENDAR