BEGIN:VCALENDAR
VERSION:2.0
PRODID:-//Midsummer&#039;s Music and its affiliate, the Griffon String Quartet - ECPv6.15.20//NONSGML v1.0//EN
CALSCALE:GREGORIAN
METHOD:PUBLISH
X-WR-CALNAME:Midsummer&#039;s Music and its affiliate, the Griffon String Quartet
X-ORIGINAL-URL:https://www.midsummersmusic.com
X-WR-CALDESC:Events for Midsummer&#039;s Music and its affiliate, the Griffon String Quartet
REFRESH-INTERVAL;VALUE=DURATION:PT1H
X-Robots-Tag:noindex
X-PUBLISHED-TTL:PT1H
BEGIN:VTIMEZONE
TZID:America/Chicago
BEGIN:DAYLIGHT
TZOFFSETFROM:-0600
TZOFFSETTO:-0500
TZNAME:CDT
DTSTART:20240310T080000
END:DAYLIGHT
BEGIN:STANDARD
TZOFFSETFROM:-0500
TZOFFSETTO:-0600
TZNAME:CST
DTSTART:20241103T070000
END:STANDARD
BEGIN:DAYLIGHT
TZOFFSETFROM:-0600
TZOFFSETTO:-0500
TZNAME:CDT
DTSTART:20250309T080000
END:DAYLIGHT
BEGIN:STANDARD
TZOFFSETFROM:-0500
TZOFFSETTO:-0600
TZNAME:CST
DTSTART:20251102T070000
END:STANDARD
BEGIN:DAYLIGHT
TZOFFSETFROM:-0600
TZOFFSETTO:-0500
TZNAME:CDT
DTSTART:20260308T080000
END:DAYLIGHT
BEGIN:STANDARD
TZOFFSETFROM:-0500
TZOFFSETTO:-0600
TZNAME:CST
DTSTART:20261101T070000
END:STANDARD
END:VTIMEZONE
BEGIN:VEVENT
DTSTART;TZID=America/Chicago:20250409T093000
DTEND;TZID=America/Chicago:20250409T100000
DTSTAMP:20260424T091609
CREATED:20250218T123743Z
LAST-MODIFIED:20251229T192403Z
UID:12908-1744191000-1744192800@www.midsummersmusic.com
SUMMARY:Griffon String Quartet Einstein Program Outreach • Green Bay
DESCRIPTION:The Griffon String Quartet presents an Einstein Program for a homeschool consortium at St. Paul’s Methodist Church in Green Bay.
URL:https://www.midsummersmusic.com/event/griffon-string-quartet-einstein-program-outreach-green-bay-2/
CATEGORIES:Einstein Series,Griffon String Quartet
ATTACH;FMTTYPE=image/png:https://www.midsummersmusic.com/wp-content/uploads/2024/10/einstein-calendar-featured-image-scaled.png
END:VEVENT
BEGIN:VEVENT
DTSTART;TZID=America/Chicago:20250409T140000
DTEND;TZID=America/Chicago:20250409T144500
DTSTAMP:20260424T091609
CREATED:20250218T123558Z
LAST-MODIFIED:20251229T192357Z
UID:12906-1744207200-1744209900@www.midsummersmusic.com
SUMMARY:Griffon String Quartet Einstein Program Outreach • Green Bay
DESCRIPTION:The Griffon String Quartet presents an Einstein Program for students at St. John Paul II Classical School in Green Bay. Time TBD.
URL:https://www.midsummersmusic.com/event/griffon-string-quartet-einstein-program-outreach-green-bay/
CATEGORIES:Einstein Series,Griffon String Quartet
ATTACH;FMTTYPE=image/png:https://www.midsummersmusic.com/wp-content/uploads/2024/10/einstein-calendar-featured-image-scaled.png
END:VEVENT
BEGIN:VEVENT
DTSTART;TZID=America/Chicago:20250410T143000
DTEND;TZID=America/Chicago:20250410T153000
DTSTAMP:20260424T091609
CREATED:20241112T115637Z
LAST-MODIFIED:20251229T192351Z
UID:12594-1744295400-1744299000@www.midsummersmusic.com
SUMMARY:Griffon String Quartet B Double Sharp Outreach • Fond du Lac
DESCRIPTION:The Griffon String Quartet performs for residents a the St. Francis Home in Fond du Lac. \nB Double Sharp programs are funded in part by grants from Little Eddie Big Cup\, Greater Green Bay Community Foundation\, Wisconsin Arts Board\,\nWisconsin Public Service\, and Destination Door County.
URL:https://www.midsummersmusic.com/event/griffon-string-quartet-b-double-sharp-outreach-fond-du-lac/
LOCATION:St. Francis Home\, 33 Everett St.\, Fond du Lac\, WI\, 54935
CATEGORIES:B Double Sharp,Griffon String Quartet
ATTACH;FMTTYPE=image/png:https://www.midsummersmusic.com/wp-content/uploads/2024/10/b-double-sharp-calendar-featured-image-scaled.png
END:VEVENT
BEGIN:VEVENT
DTSTART;TZID=America/Chicago:20250414T113000
DTEND;TZID=America/Chicago:20250414T130000
DTSTAMP:20260424T091609
CREATED:20250121T132000Z
LAST-MODIFIED:20251229T192346Z
UID:12761-1744630200-1744635600@www.midsummersmusic.com
SUMMARY:Griffon String Quartet Einstein Program • Sturgeon Bay High School
DESCRIPTION:The Griffon String Quartet presents an interactive program for band students at Sturgeon Bay High School.
URL:https://www.midsummersmusic.com/event/griffon-string-quartet-einstein-program-sturgeon-bay-high-school/
LOCATION:Sturgeon Bay High School Auditorium
CATEGORIES:Einstein Series,Griffon String Quartet
ATTACH;FMTTYPE=image/png:https://www.midsummersmusic.com/wp-content/uploads/2024/10/einstein-calendar-featured-image-scaled.png
END:VEVENT
BEGIN:VEVENT
DTSTART;TZID=America/Chicago:20250417T090000
DTEND;TZID=America/Chicago:20250417T100000
DTSTAMP:20260424T091609
CREATED:20250403T144234Z
LAST-MODIFIED:20251229T192341Z
UID:13304-1744880400-1744884000@www.midsummersmusic.com
SUMMARY:Griffon String Quartet TV Appearance • We Are Green Bay\, WFRV
DESCRIPTION:The Griffon String Quartet will appear on WFRV TV’s Local 5 Live program this morning.
URL:https://www.midsummersmusic.com/event/griffon-string-quartet-tv-appearance-we-are-green-bay-wfrv/
CATEGORIES:Community-Embedded,Griffon String Quartet
ATTACH;FMTTYPE=image/jpeg:https://www.midsummersmusic.com/wp-content/uploads/2025/04/we-are-green-bay.jpg
END:VEVENT
BEGIN:VEVENT
DTSTART;TZID=America/Chicago:20250417T120000
DTEND;TZID=America/Chicago:20250417T130000
DTSTAMP:20260424T091609
CREATED:20240917T123646Z
LAST-MODIFIED:20251229T192330Z
UID:12305-1744891200-1744894800@www.midsummersmusic.com
SUMMARY:Gather with the Griffon • Green Bay
DESCRIPTION:“Gather with the Griffon” miniconcerts are designed for midday audiences. B Double Sharp programs engage the mind and spirit through music and conversation. \nProgram: Selections from the Griffon’s April concerts. \nRoy Meyer and Alex Norris\, Violins\nOryann Tsaig\, Viola\nJesse Nummelin\, Cello\nThis is not a ticketed event. \nPrograms are funded in part by grants from the Little Eddie Big Cup\, Greater Green Bay Community Foundation\, Wisconsin Arts Board\, Wisconsin Public Service\, and Destination Door County.
URL:https://www.midsummersmusic.com/event/gather-with-the-griffon-green-bay-8/
LOCATION:First Presbyterian Church of Green Bay\, 200 S Ashland Ave.\, Green Bay\, WI\, 54303\, United States
CATEGORIES:B Double Sharp,Griffon String Quartet
ATTACH;FMTTYPE=image/png:https://www.midsummersmusic.com/wp-content/uploads/2024/09/gwtg-calendar-featured-image-scaled.png
END:VEVENT
BEGIN:VEVENT
DTSTART;TZID=America/Chicago:20250424T130000
DTEND;TZID=America/Chicago:20250424T150000
DTSTAMP:20260424T091609
CREATED:20241018T141550Z
LAST-MODIFIED:20251229T192323Z
UID:12517-1745499600-1745506800@www.midsummersmusic.com
SUMMARY:Gather with the Griffon in Door County • Country View Farm\, Baileys Harbor
DESCRIPTION:“Gather with the Griffon” miniconcerts are designed for midday audiences. B Double Sharp programs engage the mind and spirit through music and conversation. \nProgram: Selections from the Griffon’s April events. \nRoy Meyer and Alex Norris\, Violins\nOryann Tsaig\, Viola\nJesse Nummelin\, Cello\nThis is not a ticketed event. \nPrograms are funded in part by grants from the Little Eddie Big Cup\, Greater Green Bay Community Foundation\, Wisconsin Arts Board\, Wisconsin Public Service\, and Destination Door County.
URL:https://www.midsummersmusic.com/event/gather-with-the-griffon-in-door-county-country-view-farm-baileys-harbor/
LOCATION:Country View Farm\, 3200 County Road EE\, Baileys Harbor\, WI\, 54202
CATEGORIES:B Double Sharp,Griffon String Quartet
ATTACH;FMTTYPE=image/png:https://www.midsummersmusic.com/wp-content/uploads/2024/10/gwtg-calendar-featured-image-scaled.png
END:VEVENT
BEGIN:VEVENT
DTSTART;TZID=America/Chicago:20250426T100000
DTEND;TZID=America/Chicago:20250426T130000
DTSTAMP:20260424T091609
CREATED:20250325T142903Z
LAST-MODIFIED:20251229T192257Z
UID:13200-1745661600-1745672400@www.midsummersmusic.com
SUMMARY:Griffon String Quartet Einstein Outreach • Fish Creek
DESCRIPTION:Members of the Griffon String Quartet participate in the YMCA’s Healthy Kids Day events.
URL:https://www.midsummersmusic.com/event/griffon-string-quartet-einstein-outreach-fish-creek-2/
LOCATION:YMCA – Fish Creek\, 3866 Gibraltar Rd.\, Fish Creek\, WI\, 54212
CATEGORIES:Einstein Series,Griffon String Quartet
ATTACH;FMTTYPE=image/png:https://www.midsummersmusic.com/wp-content/uploads/2024/10/einstein-calendar-featured-image-scaled.png
END:VEVENT
BEGIN:VEVENT
DTSTART;TZID=America/Chicago:20250427T150000
DTEND;TZID=America/Chicago:20250427T180000
DTSTAMP:20260424T091609
CREATED:20250129T175102Z
LAST-MODIFIED:20251229T192251Z
UID:12785-1745766000-1745776800@www.midsummersmusic.com
SUMMARY:Griffon String Quartet Private Concert • Pewaukee
DESCRIPTION:The Griffon String Quartet is featured in a private concert hosted by a fan. \nRoy Meyer & Alex Norris\, Violins\nOryann Tsaig\, Viola\nJesse Nummelin\, Cello
URL:https://www.midsummersmusic.com/event/griffon-string-quartet-private-concert-pewaukee/
CATEGORIES:Griffon String Quartet,Private
END:VEVENT
END:VCALENDAR