BEGIN:VCALENDAR
VERSION:2.0
PRODID:-//Midsummer&#039;s Music and its affiliate, the Griffon String Quartet - ECPv6.15.20//NONSGML v1.0//EN
CALSCALE:GREGORIAN
METHOD:PUBLISH
X-WR-CALNAME:Midsummer&#039;s Music and its affiliate, the Griffon String Quartet
X-ORIGINAL-URL:https://www.midsummersmusic.com
X-WR-CALDESC:Events for Midsummer&#039;s Music and its affiliate, the Griffon String Quartet
REFRESH-INTERVAL;VALUE=DURATION:PT1H
X-Robots-Tag:noindex
X-PUBLISHED-TTL:PT1H
BEGIN:VTIMEZONE
TZID:America/Chicago
BEGIN:DAYLIGHT
TZOFFSETFROM:-0600
TZOFFSETTO:-0500
TZNAME:CDT
DTSTART:20230312T080000
END:DAYLIGHT
BEGIN:STANDARD
TZOFFSETFROM:-0500
TZOFFSETTO:-0600
TZNAME:CST
DTSTART:20231105T070000
END:STANDARD
BEGIN:DAYLIGHT
TZOFFSETFROM:-0600
TZOFFSETTO:-0500
TZNAME:CDT
DTSTART:20240310T080000
END:DAYLIGHT
BEGIN:STANDARD
TZOFFSETFROM:-0500
TZOFFSETTO:-0600
TZNAME:CST
DTSTART:20241103T070000
END:STANDARD
BEGIN:DAYLIGHT
TZOFFSETFROM:-0600
TZOFFSETTO:-0500
TZNAME:CDT
DTSTART:20250309T080000
END:DAYLIGHT
BEGIN:STANDARD
TZOFFSETFROM:-0500
TZOFFSETTO:-0600
TZNAME:CST
DTSTART:20251102T070000
END:STANDARD
END:VTIMEZONE
BEGIN:VEVENT
DTSTART;TZID=America/Chicago:20241011T180000
DTEND;TZID=America/Chicago:20241011T220000
DTSTAMP:20260424T185053
CREATED:20240909T134636Z
LAST-MODIFIED:20251229T193705Z
UID:12257-1728669600-1728684000@www.midsummersmusic.com
SUMMARY:Green Bay Chamber Music Society
DESCRIPTION:Haydn and Ginastera’s Haunted Ride \nThe Griffon String Quartet performs\nString Quartet in G Minor\, Op. 74\, No. 3 (The Rider) • Joseph Haydn\nRiternello • Caroline Shaw\nString Quartet No. 1 • Alberto Ginastera \nThis concert is for Green Bay Chamber Music Society members and will be held at the home of John and Rändi Fay. For information about the Green Bay Chamber Music Society\, visit this webpage. \nPlease call us at (920) 854-7088\, email us at office@midsummersmusic.com\, or sign up online to become a member of the society!
URL:https://www.midsummersmusic.com/event/green-bay-chamber-music-society/
CATEGORIES:Green Bay Chamber Music Society,Griffon String Quartet
ATTACH;FMTTYPE=image/png:https://www.midsummersmusic.com/wp-content/uploads/2024/09/2024-gbcms-griffon-logo.png
END:VEVENT
BEGIN:VEVENT
DTSTART;TZID=America/Chicago:20241012T190000
DTEND;TZID=America/Chicago:20241012T210000
DTSTAMP:20260424T185053
CREATED:20240429T112836Z
LAST-MODIFIED:20251229T193739Z
UID:11791-1728759600-1728766800@www.midsummersmusic.com
SUMMARY:Autumn Music Fest – Haydn and Ginastera's Haunted Ride – Griffon String Quartet • St. Luke's\, Sister Bay
DESCRIPTION:Haydn and Autumn Harmonies \nString Quartet in G Minor\, Op. 74\, No. 3 “Rider” • Joseph Haydn\nRitornello • Caroline Shaw\nString Quartet No. 1 • Alberto Ginastera \nRoy Meyer & Alex Norris\, violins\nOryann Tsaig\, viola\nJesse Nummelin\, cello \nProgram sponsor: Jacquie Wille
URL:https://www.midsummersmusic.com/event/autumn-music-fest-griffon-string-quartet-st-lukes-sister-bay/
LOCATION:St. Luke’s Episcopal Church\, 2336 Canterbury Ln\, Sister Bay\, WI\, 54234
CATEGORIES:Community-Embedded,Griffon String Quartet
ATTACH;FMTTYPE=image/png:https://www.midsummersmusic.com/wp-content/uploads/2024/04/amf-calendar-featured-image-scaled.png
END:VEVENT
BEGIN:VEVENT
DTSTART;TZID=America/Chicago:20241013T150000
DTEND;TZID=America/Chicago:20241013T170000
DTSTAMP:20260424T185053
CREATED:20240429T112254Z
LAST-MODIFIED:20251229T193745Z
UID:11783-1728831600-1728838800@www.midsummersmusic.com
SUMMARY:Autumn Music Fest – Haydn and Ginastera's Haunted Ride – Griffon String Quartet • Muse\, Sturgeon Bay
DESCRIPTION:Haydn and Autumn Harmonies \nString Quartet in G Minor\, Op. 74\, No. 3 “Rider” • Joseph Haydn\nRitornello • Caroline Shaw\nString Quartet No. 1 • Alberto Ginastera \nRoy Meyer & Alex Norris\, violins\nOryann Tsaig\, viola\nJesse Nummelin\, cello \nProgram sponsor: Jacquie Wille
URL:https://www.midsummersmusic.com/event/autumn-music-fest-muse-sturgeon-bay/
LOCATION:MUSE Sturgeon Bay\, 330 Jefferson St.\, Sturgeon Bay\, WI\, 54235
CATEGORIES:Community-Embedded,Griffon String Quartet
ATTACH;FMTTYPE=image/png:https://www.midsummersmusic.com/wp-content/uploads/2024/04/amf-calendar-featured-image-scaled.png
END:VEVENT
BEGIN:VEVENT
DTSTART;TZID=America/Chicago:20241017T120000
DTEND;TZID=America/Chicago:20241017T130000
DTSTAMP:20260424T185053
CREATED:20240917T122915Z
LAST-MODIFIED:20251229T192902Z
UID:12293-1729166400-1729170000@www.midsummersmusic.com
SUMMARY:Gather with the Griffon • Green Bay
DESCRIPTION:“Gather with the Griffon” miniconcerts are designed for midday audiences. B Double Sharp programs engage the mind and spirit through music and conversation. \nProgram: Selections from the Griffon’s October concerts \nRoy Meyer and Alex Norris\, Violins\nOryann Tsaig\, Viola\nJesse Nummelin\, Cello\nThis is not a ticketed event. \nPrograms are funded in part by grants from the Little Eddie Big Cup\, Greater Green Bay Community Foundation\, Wisconsin Arts Board\, Wisconsin Public Service\, and Destination Door County.
URL:https://www.midsummersmusic.com/event/gather-with-the-griffon-green-bay-2/
LOCATION:First Presbyterian Church of Green Bay\, 200 S Ashland Ave.\, Green Bay\, WI\, 54303\, United States
CATEGORIES:B Double Sharp,Griffon String Quartet
ATTACH;FMTTYPE=image/png:https://www.midsummersmusic.com/wp-content/uploads/2024/09/gwtg-calendar-featured-image-scaled.png
END:VEVENT
BEGIN:VEVENT
DTSTART;TZID=America/Chicago:20241017T133000
DTEND;TZID=America/Chicago:20241017T143000
DTSTAMP:20260424T185053
CREATED:20240924T084313Z
LAST-MODIFIED:20251229T192902Z
UID:12336-1729171800-1729175400@www.midsummersmusic.com
SUMMARY:Griffon String Quartet • McCormick Home Assisted Living
DESCRIPTION:B Double Sharp program \nThe Griffon String Quartet performs for residents at McCormick Home Assisted Living in Green Bay. \nPrograms are funded in part by grants from the Little Eddie Big Cup\, Greater Green Bay Community Foundation\, Wisconsin Arts Board\, Wisconsin Public Service\, and Destination Door County.
URL:https://www.midsummersmusic.com/event/griffon-string-quartet-mccormick-home-assisted-living/
CATEGORIES:B Double Sharp,Griffon String Quartet
ATTACH;FMTTYPE=image/png:https://www.midsummersmusic.com/wp-content/uploads/2024/09/griffon-string-quartet-scaled.png
END:VEVENT
BEGIN:VEVENT
DTSTART;TZID=America/Chicago:20241022T130000
DTEND;TZID=America/Chicago:20241022T140000
DTSTAMP:20260424T185053
CREATED:20241009T144452Z
LAST-MODIFIED:20251229T192902Z
UID:12390-1729602000-1729605600@www.midsummersmusic.com
SUMMARY:Gather with the Griffon • Sturgeon Bay
DESCRIPTION:“Gather with the Griffon” miniconcerts are designed for midday audiences. B Double Sharp programs engage the mind and spirit through music and conversation. \nProgram: Selections from the Griffon’s October concerts \nRoy Meyer and Alex Norris\, Violins\nOryann Tsaig\, Viola\nJesse Nummelin\, Cello\nThis is not a ticketed event. \nPrograms are funded in part by grants from the Little Eddie Big Cup\, Greater Green Bay Community Foundation\, Wisconsin Arts Board\, Wisconsin Public Service\, and Destination Door County.
URL:https://www.midsummersmusic.com/event/gather-with-the-griffon-sturgeon-bay/
LOCATION:MUSE Sturgeon Bay\, 330 Jefferson St.\, Sturgeon Bay\, WI\, 54235
CATEGORIES:B Double Sharp,Griffon String Quartet
ATTACH;FMTTYPE=image/png:https://www.midsummersmusic.com/wp-content/uploads/2024/09/gwtg-calendar-featured-image-scaled.png
END:VEVENT
BEGIN:VEVENT
DTSTART;TZID=America/Chicago:20241022T143000
DTEND;TZID=America/Chicago:20241022T153000
DTSTAMP:20260424T185053
CREATED:20241002T135449Z
LAST-MODIFIED:20251230T190722Z
UID:12371-1729607400-1729611000@www.midsummersmusic.com
SUMMARY:Griffon String Quartet • Door County Child Development\, Sturgeon Bay
DESCRIPTION:The Griffon String Quartet performs for toddlers at the Door County Child Development Center. \nThis is not open to the public.
URL:https://www.midsummersmusic.com/event/griffon-string-quartet-door-county-child-development-sturgeon-bay/
LOCATION:Door Community Child Development Center\, 5617 Gordon Rd.\, Sturgeon Bay\, WI\, 54235
CATEGORIES:Einstein Series,Griffon String Quartet
ATTACH;FMTTYPE=image/png:https://www.midsummersmusic.com/wp-content/uploads/2024/09/griffon-string-quartet-scaled.png
END:VEVENT
BEGIN:VEVENT
DTSTART;TZID=America/Chicago:20241026T110000
DTEND;TZID=America/Chicago:20241026T150000
DTSTAMP:20260424T185053
CREATED:20241023T104655Z
LAST-MODIFIED:20251229T193632Z
UID:12548-1729940400-1729954800@www.midsummersmusic.com
SUMMARY:Griffon String Quartet • Thrills and Chills\, Sturgeon Bay
DESCRIPTION:The Griffon String Quartet will perform for children at the Sturgeon Bay Library’s Thrills and Chills event. \nThe Sturgeon Bay Library will be hosting a Trick or Treat Bag Decorating craft time from 11-1. Come express yourself making a bag for your Trick-or-Treating fun. After craft time\, Join us as we host the Griffon String Quartet for a Story-and-a-Concert Halloween Themed event in the Jane Greene Room starting at 2pm. While there get your picture in front of our Halloween backdrop. Hot drinks will also be available. We are a warming location for this normally chilly day. Contact: Beth\, 920-746-7119 \nThe quartet is scheduled to perform at 2:00pm. Music by Franz Joseph Haydn\, Dmitri Shostakovich\, and Giacomo Puccini to accompany a reading of Soggy Hallow by Ryan T. Higgins. \nClick Buy Tickets for information from the library’s website.
URL:https://www.midsummersmusic.com/event/griffon-string-quartet-thrills-and-chills-sturgeon-bay/
LOCATION:Door County Library\, Sturgeon Bay\, 107 S 4th Ave.\, Sturgeon Bay\, WI\, 54235
CATEGORIES:Community-Embedded,Griffon String Quartet
ATTACH;FMTTYPE=image/png:https://www.midsummersmusic.com/wp-content/uploads/2024/10/einstein-calendar-featured-image-scaled.png
END:VEVENT
BEGIN:VEVENT
DTSTART;TZID=America/Chicago:20241026T190000
DTEND;TZID=America/Chicago:20241026T210000
DTSTAMP:20260424T185053
CREATED:20241002T135816Z
LAST-MODIFIED:20251229T193512Z
UID:12374-1729969200-1729976400@www.midsummersmusic.com
SUMMARY:Griffon String Quartet Concert • UUF\, Green Bay
DESCRIPTION:Haydn and Ginastera’s Haunted Ride\nString Quartet in G Minor\, Op. 74\, No. 3 “Rider” • Joseph Haydn\nRitornello • Caroline Shaw\nString Quartet No. 1 • Alberto Ginastera \nRoy Meyer & Alex Norris\, violins\nOryann Tsaig\, viola\nJesse Nummelin\, cello \nThis is a free concert. Donations will be accepted.
URL:https://www.midsummersmusic.com/event/griffon-string-quartet-concert-uuf-green-bay/
LOCATION:Green Bay Area Unitarian Universalist Fellowship\, 1313 Main St.\, Green Bay\, WI\, 54302
CATEGORIES:Community-Embedded,Griffon String Quartet
ATTACH;FMTTYPE=image/png:https://www.midsummersmusic.com/wp-content/uploads/2024/09/griffon-string-quartet-scaled.png
END:VEVENT
END:VCALENDAR