BEGIN:VCALENDAR
VERSION:2.0
PRODID:-//Midsummer&#039;s Music and its affiliate, the Griffon String Quartet - ECPv6.15.20//NONSGML v1.0//EN
CALSCALE:GREGORIAN
METHOD:PUBLISH
X-ORIGINAL-URL:https://www.midsummersmusic.com
X-WR-CALDESC:Events for Midsummer&#039;s Music and its affiliate, the Griffon String Quartet
REFRESH-INTERVAL;VALUE=DURATION:PT1H
X-Robots-Tag:noindex
X-PUBLISHED-TTL:PT1H
BEGIN:VTIMEZONE
TZID:America/Chicago
BEGIN:DAYLIGHT
TZOFFSETFROM:-0600
TZOFFSETTO:-0500
TZNAME:CDT
DTSTART:20220313T080000
END:DAYLIGHT
BEGIN:STANDARD
TZOFFSETFROM:-0500
TZOFFSETTO:-0600
TZNAME:CST
DTSTART:20221106T070000
END:STANDARD
BEGIN:DAYLIGHT
TZOFFSETFROM:-0600
TZOFFSETTO:-0500
TZNAME:CDT
DTSTART:20230312T080000
END:DAYLIGHT
BEGIN:STANDARD
TZOFFSETFROM:-0500
TZOFFSETTO:-0600
TZNAME:CST
DTSTART:20231105T070000
END:STANDARD
BEGIN:DAYLIGHT
TZOFFSETFROM:-0600
TZOFFSETTO:-0500
TZNAME:CDT
DTSTART:20240310T080000
END:DAYLIGHT
BEGIN:STANDARD
TZOFFSETFROM:-0500
TZOFFSETTO:-0600
TZNAME:CST
DTSTART:20241103T070000
END:STANDARD
END:VTIMEZONE
BEGIN:VEVENT
DTSTART;TZID=America/Chicago:20230907T120000
DTEND;TZID=America/Chicago:20230907T130000
DTSTAMP:20260425T160127
CREATED:20230823T115041Z
LAST-MODIFIED:20251229T192929Z
UID:10691-1694088000-1694091600@www.midsummersmusic.com
SUMMARY:Gather with the Griffon • Green Bay
DESCRIPTION:“Gather with the Griffon” miniconcerts are designed for midday audiences. B Double Sharp programs engage the mind and spirit through music and conversation.\n\n\n\n\nRoy Meyer and Alex Norris\, Violins\nNick Jeffery\, Viola\nJesse Nummelin\, Cello\n\n\n\n\nThis is not a ticketed event.
URL:https://www.midsummersmusic.com/event/gather-griffon-green-bay-2/
LOCATION:First Presbyterian Church of Green Bay\, 200 S Ashland Ave.\, Green Bay\, WI\, 54303\, United States
CATEGORIES:B Double Sharp,Griffon String Quartet
END:VEVENT
BEGIN:VEVENT
DTSTART;TZID=America/Chicago:20230909T190000
DTEND;TZID=America/Chicago:20230909T220000
DTSTAMP:20260425T160127
CREATED:20230429T153604Z
LAST-MODIFIED:20251229T194649Z
UID:10187-1694286000-1694296800@www.midsummersmusic.com
SUMMARY:Beneath the Waves CD Release Concert & Reception • Eric Lewis and the Griffon String Quartet
DESCRIPTION:Beneath the Waves is a collection of instrumental tunes and songs written by Memphis-based musician Eric Lewis\, along with the addition of “Salt Creek\,” a traditional fiddle tune. Composer Sam Shoup of Memphis expertly provided the string arrangements. Lewis says\, “It has been a great desire of mine to collaborate with the Griffon String Quartet and Midsummer’s Music for some time now. It is a dream come true to perform this music with such high caliber musicians and to preserve it on record. The Griffon String Quartet really brings this music to life!” \nThe project’s title is also one of the recording’s instrumental pieces\, which was written following a trip to Rosemary Beach – on Florida’s panhandle – where Lewis scattered his parents’ ashes. Later\, when recording an early demo in Memphis\, Lewis discovered a midi patch for a virtual instrument called “Beneath the Waves.” It was clear that would be the name of the piece. And knowing the history of the famed Le Griffon shipwreck\, from which the Griffon String Quartet takes its name\, it only makes it more fitting that this collaboration came to fruition. \nThis extraordinary event features a concert with Eric Lewis and the Griffon String Quartet\, along with the digital release of the Beneath the Waves record. \nTracks\nBeneath the Waves\nFor Rose Mary\nPrayer for Gladys\nSalt Creek\nTennessee Barn Burner\nWestern Wind\nWho’s that Girl? \nThank you sponsors Jim & Jean Berkenstock\, NEW Radio\, Dennis & Bonnie Connolly\, Todd & Sheryll Rockway\, MMG Foundation\, and Wisconsin Public Radio. \nFlex pack tickets cannot be used for this concert. Gift certificates and authorized complimentary tickets can be used.
URL:https://www.midsummersmusic.com/event/beneath-waves-cd-release-concert/
LOCATION:Northern Sky Theater’s Gould Theater\, 9058 Co Rd A\, Fish Creek\, WI\, 54212\, United States
CATEGORIES:Community-Embedded,Griffon String Quartet
END:VEVENT
BEGIN:VEVENT
DTSTART;TZID=America/Chicago:20230912T180000
DTEND;TZID=America/Chicago:20230912T190000
DTSTAMP:20260425T160127
CREATED:20230823T115503Z
LAST-MODIFIED:20251229T194644Z
UID:10694-1694541600-1694545200@www.midsummersmusic.com
SUMMARY:Griffon String Quartet • Fine Arts Institute
DESCRIPTION:Members of the Griffon String Quartet will meet the strings lessons students from the Fine Arts Institute at East High School in Green Bay. \nThis event is not open to the public.
URL:https://www.midsummersmusic.com/event/griffon-string-quartet-fine/
LOCATION:East High School\, 1415 E Walnut St.\, Green Bay\, WI\, 54301\, United States
CATEGORIES:Einstein Series,Griffon String Quartet
END:VEVENT
END:VCALENDAR